BEGIN:VCALENDAR
VERSION:2.0
PRODID:-//wp-events-plugin.com//7.2.3.1//EN
TZID:Europe/Paris
X-WR-TIMEZONE:Europe/Paris
BEGIN:VEVENT
UID:335@belledonne-sport-nature.fr
DTSTART;TZID=Europe/Paris:20220727T070000
DTEND;TZID=Europe/Paris:20220803T170000
DTSTAMP:20220306T071615Z
URL:https://belledonne-sport-nature.fr/events/a-la-frontiere-franco-sarde/
SUMMARY:A la frontière Franco-Sarde (COMPLET)
DESCRIPTION:Six étapes et un jour de repos\, depuis Saint Sorlin d'Arves j
 usqu'en Névachie\, via le Galibier\, et retour à Valmeinier.\n\n&nbsp\;A
  la découverte&nbsp\; des anciennes bornes-frontière de 1822 encore en p
 lace (on ira de la borne numérotée 76 à la 93\, qui marque la limite an
 cienne du Duché de Savoie\, avec celui du Piémont plus au sud) et en lon
 geant très approximativement l'ancienne crête- frontière entre France e
 t Sardaigne\, à laquelle était alors rattachée la Savoie. Ce parcours e
 st dans la continuité de plusieurs randos déjà effectuées par notre as
 sociation pour trouver des bornes-frontières : en Chartreuse et en Belled
 onne\, pas moins de 17 bornes ont déjà été repérées.\n\nEtapes de 5 
 à 8 heures\, dénivelées variables parfois supérieures à 1200 m à la 
 montée\, parfois 1600 mètres à la descente. Distances allant de 12 à 1
 9 km par étape.\n\nCe projet concerne de bons marcheurs\, y compris hors 
 sentier\, et nécessite le sens de l'orientation.\n\n\nUtilisation des tra
 nsports en commun (TER et bus ou taxis) pour départ et retour.\n\nNuitée
 s en refuge ou en gîte d'étape.\n\nCartes IGN top 25 : 3335 ET\,3435 ET\
 , 3535 OT.\nLe tracé prévisionnel\n
ATTACH;FMTTYPE=image/jpeg:https://i0.wp.com/belledonne-sport-nature.fr/wp-
 content/uploads/2022/01/col-de-la-croix_43-scaled.jpg?fit=1920%2C1440&ssl=
 1
CATEGORIES:Rando pédestre
LOCATION:Place Saint Roch\, Place saint Roch\, Arvillard\, 73110\, France
GEO:45.442308;6.12123
X-APPLE-STRUCTURED-LOCATION;VALUE=URI;X-ADDRESS=Place saint Roch\, Arvillar
 d\, 73110\, France;X-APPLE-RADIUS=100;X-TITLE=Place Saint Roch:geo:45.4423
 08,6.12123
END:VEVENT
BEGIN:VTIMEZONE
TZID:Europe/Paris
X-LIC-LOCATION:Europe/Paris
BEGIN:DAYLIGHT
DTSTART:20220327T030000
TZOFFSETFROM:+0100
TZOFFSETTO:+0200
TZNAME:CEST
END:DAYLIGHT
END:VTIMEZONE
END:VCALENDAR