BEGIN:VCALENDAR
VERSION:2.0
PRODID:-//wp-events-plugin.com//7.2.3.1//EN
TZID:Europe/Paris
X-WR-TIMEZONE:Europe/Paris
BEGIN:VEVENT
UID:260@belledonne-sport-nature.fr
DTSTART;TZID=Europe/Paris;VALUE=DATE:20210522
DTEND;TZID=Europe/Paris;VALUE=DATE:20210531
DTSTAMP:20210515T062359Z
URL:https://belledonne-sport-nature.fr/events/chantier-tous-a-poele/
SUMMARY:Chantier Tous à Poêle
DESCRIPTION:Samedi 22 au dimanche 30 mai\nChantier dans le Beaumont (38)\n&
 nbsp\;\nAménagement de deux nouvelles cabanes sur la commune de Saint-Mic
 hel-en-Beaumont - 38350.\n\n\nPour avoir une idée de qui vient et d'où (
 organisation d'éventuels covoiturages)\, voilà le tableau des participan
 ts à ce jour : https://lite.framacalc.org/9ndu-beaumont.
ATTACH;FMTTYPE=image/jpeg:https://i0.wp.com/belledonne-sport-nature.fr/wp-
 content/uploads/2020/05/tous_a_poele.jpg?fit=221%2C201&ssl=1
CATEGORIES:Travaux refuges
END:VEVENT
BEGIN:VTIMEZONE
TZID:Europe/Paris
X-LIC-LOCATION:Europe/Paris
BEGIN:DAYLIGHT
DTSTART:20210328T030000
TZOFFSETFROM:+0100
TZOFFSETTO:+0200
TZNAME:CEST
END:DAYLIGHT
END:VTIMEZONE
END:VCALENDAR