BEGIN:VCALENDAR
VERSION:2.0
PRODID:-//wp-events-plugin.com//7.2.3.1//EN
TZID:Europe/Paris
X-WR-TIMEZONE:Europe/Paris
BEGIN:VEVENT
UID:342@belledonne-sport-nature.fr
DTSTART;TZID=Europe/Paris:20220312T140000
DTEND;TZID=Europe/Paris:20220313T180000
DTSTAMP:20220303T132030Z
URL:https://belledonne-sport-nature.fr/events/decouverte-du-ski-de-randonn
 ee/
SUMMARY:Découverte du ski de randonnée
DESCRIPTION:L'association Belledonne Sports Nature et le comité de Savoie 
 FSGT proposent une initiation au ski de randonnée ouverte aux débutants.
 \nSamedi 12 mars de 14 h à 18 h\n\n 	Exercice de recherche de victime d'a
 valanche (le lieu sera choisi en fonction de l'enneigement)\nRendez vous 1
 4 h place Saint Roch à Arvillard\n 	Préparation de la sortie du lendemai
 n.\nL’itinéraire de la sortie et les modalités pratiques (horaire de r
 endez-vous\, matériel ...)\n\nDimanche 13 mars :\nSortie adaptée aux dé
 butants\, choisie en fonction des conditions nivologiques.\nInfos pratique
 s\nCe programme s'adresse à des débutants (ou quasi débutants) en ski d
 e randonnée.\n\nIl faut :\n\n 	Avoir un niveau de ski permettant d’évo
 luer en sécurité sur des pentes moyennes dans des neiges variables-non d
 amées \;\n 	Une condition physique permettant de monter 3 à 4 heures&nbs
 p\;\;\n 	Prévoir une tenue vestimentaire adaptée à la montagne hivernal
 e.\n 	Se procurer : skis de randonnée\, peluches\, couteaux\, chaussures 
 de ski de randonnée.\n(location possible 75 à 80 € pour les 2 jours)\n
  	Avoir un kit de sécurité (DVA\, pelle Sonde)\nL'association peu prête
 r quelques uns aux premiers inscrits sinon en louer un.\n\n
ATTACH;FMTTYPE=image/jpeg:https://i0.wp.com/belledonne-sport-nature.fr/wp-
 content/uploads/2022/02/Roche-parstire_020.jpg?fit=1239%2C697&ssl=1
CATEGORIES:Ski de rando
LOCATION:Place Saint Roch\, Place saint Roch\, Arvillard\, 73110\, France
GEO:45.442308;6.12123
X-APPLE-STRUCTURED-LOCATION;VALUE=URI;X-ADDRESS=Place saint Roch\, Arvillar
 d\, 73110\, France;X-APPLE-RADIUS=100;X-TITLE=Place Saint Roch:geo:45.4423
 08,6.12123
END:VEVENT
BEGIN:VTIMEZONE
TZID:Europe/Paris
X-LIC-LOCATION:Europe/Paris
BEGIN:STANDARD
DTSTART:20211031T020000
TZOFFSETFROM:+0200
TZOFFSETTO:+0100
TZNAME:CET
END:STANDARD
END:VTIMEZONE
END:VCALENDAR