BEGIN:VCALENDAR
VERSION:2.0
PRODID:-//wp-events-plugin.com//7.2.3.1//EN
TZID:Europe/Paris
X-WR-TIMEZONE:Europe/Paris
BEGIN:VEVENT
UID:599@belledonne-sport-nature.fr
DTSTART;TZID=Europe/Paris:20240627T090000
DTEND;TZID=Europe/Paris:20240627T150000
DTSTAMP:20240620T095106Z
URL:https://belledonne-sport-nature.fr/events/entretien-du-balisage-5/
SUMMARY:Entretien du balisage
DESCRIPTION:\nBelledonne Sports Nature est titulaire d'une convention avec 
 la communauté de communes Cœur de Savoie pour l'entretien du balisage du
  GR 738 sur le territoire de la communauté de communes (24 km de la batte
 rie de Rochebrune à Pré Nouveau).En cas de temps humide\, report au lend
 emain.\n\n\n\n\nRénovation du balisage peinture.\n\n\n\nVérification de 
 la signalétique.\n\n\n\nPetits travaux sur et  aux abords du sentier.\n\n
 \n\nRecensement et signalement des gros travaux (gros arbres\, dégradatio
 ns du sentier…)\n\n\n\n\nIl serait souhaitable d'être au moins 6 pour f
 aire 2 groupes partant des 2 extrémités du tronçon : sans doute sources
  du Gargoton (Accès vallée du Joudron parking de la Doua) - Col du Champ
 et (accès par La Jasse)\n\n\n\n\n
ATTACH;FMTTYPE=image/jpeg:https://i0.wp.com/belledonne-sport-nature.fr/wp-
 content/uploads/2024/06/IMG_2716-1.jpg?fit=800%2C449&ssl=1
CATEGORIES:Balisage sentiers
LOCATION:Place Saint Roch\, Place saint Roch\, Arvillard\, 73110\, France
GEO:45.442308;6.12123
X-APPLE-STRUCTURED-LOCATION;VALUE=URI;X-ADDRESS=Place saint Roch\, Arvillar
 d\, 73110\, France;X-APPLE-RADIUS=100;X-TITLE=Place Saint Roch:geo:45.4423
 08,6.12123
END:VEVENT
BEGIN:VTIMEZONE
TZID:Europe/Paris
X-LIC-LOCATION:Europe/Paris
BEGIN:DAYLIGHT
DTSTART:20240331T030000
TZOFFSETFROM:+0100
TZOFFSETTO:+0200
TZNAME:CEST
END:DAYLIGHT
END:VTIMEZONE
END:VCALENDAR