BEGIN:VCALENDAR
VERSION:2.0
PRODID:-//wp-events-plugin.com//7.2.3.1//EN
TZID:Europe/Paris
X-WR-TIMEZONE:Europe/Paris
BEGIN:VEVENT
UID:111@belledonne-sport-nature.fr
DTSTART;TZID=Europe/Paris:20191205T173000
DTEND;TZID=Europe/Paris:20191205T200000
DTSTAMP:20191128T075655Z
URL:https://belledonne-sport-nature.fr/events/entretien-skis/
SUMMARY:Entretien skis
DESCRIPTION:Avant la saison de ski\, remise en état :\n\n 	Des skis (rebou
 chage\, fartage...).\n 	Réglage des fixations (venir avec les chaussures)
 .\n 	Des peluches\n 	...\n
CATEGORIES:Ski de rando
LOCATION:Impasse du Tinage\, 100 impase du Tinage\, Arvillard\, 73110\, Fra
 nce
X-APPLE-STRUCTURED-LOCATION;VALUE=URI;X-ADDRESS=100 impase du Tinage\, Arvi
 llard\, 73110\, France;X-APPLE-RADIUS=100;X-TITLE=Impasse du Tinage:geo:0,
 0
END:VEVENT
BEGIN:VTIMEZONE
TZID:Europe/Paris
X-LIC-LOCATION:Europe/Paris
BEGIN:STANDARD
DTSTART:20191027T020000
TZOFFSETFROM:+0200
TZOFFSETTO:+0100
TZNAME:CET
END:STANDARD
END:VTIMEZONE
END:VCALENDAR