BEGIN:VCALENDAR
VERSION:2.0
PRODID:-//wp-events-plugin.com//7.2.3.1//EN
TZID:Europe/Paris
X-WR-TIMEZONE:Europe/Paris
BEGIN:VEVENT
UID:592@belledonne-sport-nature.fr
DTSTART;TZID=Europe/Paris:20240712T080000
DTEND;TZID=Europe/Paris:20240712T163000
DTSTAMP:20240703T110337Z
URL:https://belledonne-sport-nature.fr/events/grands-moulins-en-traversee/
SUMMARY:Grands Moulins (en traversée)
DESCRIPTION:\nAller par le col de la Perrière et l'arête nord-ouest  \; r
 etour par la voie normale versant sud\, avec passage au refuge de la Perri
 ère. Départ de Val Pelouse\, au-dessus d'Arvillard (1720 m) \; sommet à
  2495 m.\n\n\n\nDénivelée 800 m. Distance 9 km. Carte IGN TOP 25 n°3 OT
 (Allevard Belledonne Nord)\n\n\n\nL'arête nord-ouest présente quelques p
 as d'escalade facile et de la marche en éboulis. Selon la forme des parti
 cipants\, une variante est possible à la descente (passer versant Maurien
 ne à la Brèche des Ciseaux et revenir par le col de la Frêche).\n\n\n\n
 \n
ATTACH;FMTTYPE=image/jpeg:https://i0.wp.com/belledonne-sport-nature.fr/wp-
 content/uploads/2024/04/Traversee-Grands-Moulins_04.jpg?fit=1920%2C1080&ss
 l=1
CATEGORIES:Rando pédestre
LOCATION:Place Saint Roch\, Place saint Roch\, Arvillard\, 73110\, France
GEO:45.442308;6.12123
X-APPLE-STRUCTURED-LOCATION;VALUE=URI;X-ADDRESS=Place saint Roch\, Arvillar
 d\, 73110\, France;X-APPLE-RADIUS=100;X-TITLE=Place Saint Roch:geo:45.4423
 08,6.12123
END:VEVENT
BEGIN:VTIMEZONE
TZID:Europe/Paris
X-LIC-LOCATION:Europe/Paris
BEGIN:DAYLIGHT
DTSTART:20240331T030000
TZOFFSETFROM:+0100
TZOFFSETTO:+0200
TZNAME:CEST
END:DAYLIGHT
END:VTIMEZONE
END:VCALENDAR