BEGIN:VCALENDAR
VERSION:2.0
PRODID:-//wp-events-plugin.com//7.2.3.1//EN
TZID:Europe/Paris
X-WR-TIMEZONE:Europe/Paris
BEGIN:VEVENT
UID:55@belledonne-sport-nature.fr
DTSTART;TZID=Europe/Paris:20190120T090000
DTEND;TZID=Europe/Paris:20190120T160000
DTSTAMP:20190116T160825Z
URL:https://belledonne-sport-nature.fr/events/initiation-skating/
SUMMARY:Initiation skating
DESCRIPTION:L'espace nordique du Barioz organise une initiation au skating\
 n\nRenseignements\, inscriptions : 04 76 71 06 47
CATEGORIES:Ski de rando
END:VEVENT
BEGIN:VTIMEZONE
TZID:Europe/Paris
X-LIC-LOCATION:Europe/Paris
BEGIN:STANDARD
DTSTART:20181028T020000
TZOFFSETFROM:+0200
TZOFFSETTO:+0100
TZNAME:CET
END:STANDARD
END:VTIMEZONE
END:VCALENDAR