BEGIN:VCALENDAR
VERSION:2.0
PRODID:-//wp-events-plugin.com//7.2.3.1//EN
TZID:Europe/Paris
X-WR-TIMEZONE:Europe/Paris
BEGIN:VEVENT
UID:675@belledonne-sport-nature.fr
DTSTART;TZID=Europe/Paris:20250615T090000
DTEND;TZID=Europe/Paris:20250615T150000
DTSTAMP:20250606T080825Z
URL:https://belledonne-sport-nature.fr/events/les-grands-moulins-2/
SUMMARY:Les Grands Moulins
DESCRIPTION:\nTraversée arête nord-ouest – voie normale sud. 9 km\, dé
 nivelé 850 m.Grande classique de Belledonne Nord.\n\n\n\nDe Val Pelouse (
 grand parking)\, rejoindre la crête de la Grande Montagne d'Arvillard\, d
 escendre au col de la Perrière. Une sente parcourt l'arête nord ouest\, 
 d'abord plutôt versant nord (on met les mains 2 ou 3 fois) \; puis plutô
 t versant sud. On gagne le sommet par de gros blocs. Descente versant sud 
 d'abord par un pierrier puis un bon sentier assez raide. On rejoint le GR 
 738 en dessous du col de la Frèche. Une longue traversée permet de rejoi
 ndre le refuge de la Perrière puis Val pelouse.\n\n\n\n\n\n\n\n\n
ATTACH;FMTTYPE=image/jpeg:https://i0.wp.com/belledonne-sport-nature.fr/wp-
 content/uploads/2022/06/Grands-Moulins_04-1.jpg?fit=800%2C450&ssl=1
LOCATION:Val Pelouse\, Route de Val Pelouse\, Arvillard\, Auvergne-Rhône-A
 lpes\, 73110\, Chambéry\, France
GEO:45.418455;6.168909
X-APPLE-STRUCTURED-LOCATION;VALUE=URI;X-ADDRESS=Route de Val Pelouse\, Arvi
 llard\, Auvergne-Rhône-Alpes\, 73110\, Chambéry\, France;X-APPLE-RADIUS=
 100;X-TITLE=Val Pelouse:geo:45.418455,6.168909
END:VEVENT
BEGIN:VTIMEZONE
TZID:Europe/Paris
X-LIC-LOCATION:Europe/Paris
BEGIN:DAYLIGHT
DTSTART:20250330T030000
TZOFFSETFROM:+0100
TZOFFSETTO:+0200
TZNAME:CEST
END:DAYLIGHT
END:VTIMEZONE
END:VCALENDAR