BEGIN:VCALENDAR
VERSION:2.0
PRODID:-//wp-events-plugin.com//7.2.3.1//EN
TZID:Europe/Paris
X-WR-TIMEZONE:Europe/Paris
BEGIN:VEVENT
UID:487@belledonne-sport-nature.fr
DTSTART;TZID=Europe/Paris:20231019T084500
DTEND;TZID=Europe/Paris:20231020T163000
DTSTAMP:20231001T120914Z
URL:https://belledonne-sport-nature.fr/events/prendre-en-compte-la-biodive
 rsite-dans-la-conduite-des-sports-de-nature-2023-10-19/
SUMMARY:Prendre en compte la biodiversité dans la conduite des sports de n
 ature
DESCRIPTION:\nJeudi 12 et jeudi 19 octobre 2023 - Au Collet d’Allevard 
 – Salle Antoine Cros et Centredes Mainiaux.En lien avec le schéma des A
 ctivités de Pleine Nature de Belledonne et de la démarche des camps de b
 ase\, la LPO\, Montagnes Nature et Hommes\, et l’Espace Belledonne vous 
 proposent une formation à la prise en compte de la biodiversité dans la 
 conduite et l’encadrement de sports de nature.\n\n\n\nFormation-Sports-e
 t-biodiversite-CVB-Belledonne-2023-1Télécharger\n\n\n\n\nPour s'inscrire
 \n\n
CATEGORIES:Formation
LOCATION:Salle Antoine Croz\, Le Collet d'Allevard\, Allevard\, Auvergne-Rh
 ône-Alpes\, 38580\, Isère\, France
GEO:45.39215;6.109602
X-APPLE-STRUCTURED-LOCATION;VALUE=URI;X-ADDRESS=Le Collet d'Allevard\, Alle
 vard\, Auvergne-Rhône-Alpes\, 38580\, Isère\, France;X-APPLE-RADIUS=100;
 X-TITLE=Salle Antoine Croz:geo:45.39215,6.109602
END:VEVENT
BEGIN:VTIMEZONE
TZID:Europe/Paris
X-LIC-LOCATION:Europe/Paris
BEGIN:DAYLIGHT
DTSTART:20230326T030000
TZOFFSETFROM:+0100
TZOFFSETTO:+0200
TZNAME:CEST
END:DAYLIGHT
END:VTIMEZONE
END:VCALENDAR