BEGIN:VCALENDAR
VERSION:2.0
PRODID:-//wp-events-plugin.com//7.2.3.1//EN
TZID:Europe/Paris
X-WR-TIMEZONE:Europe/Paris
BEGIN:VEVENT
UID:419@belledonne-sport-nature.fr
DTSTART;TZID=Europe/Paris:20230430T090000
DTEND;TZID=Europe/Paris:20230430T160000
DTSTAMP:20230416T073703Z
URL:https://belledonne-sport-nature.fr/events/printemps-de-la-randonnee-fs
 gt-3/
SUMMARY:Printemps de la Randonnée FSGT
DESCRIPTION:\nDans le cadre du 13e printemps de la randonnée FSGT\, nous o
 rganiserons une randonnée ouverte à tous.\n\n\n\nRandonnée sur la colli
 ne de Montraillant (Col de Cochette\, tours de Montmayeur\, maison des ré
 sistants..)Possibilités de raccourcir le parcours.\n\n\n\nRendez-vous :\n
 \n\n\n\n8 h 45 Place Saint Roch Arvillard\n\n\n\n9 h col de Cochette (7311
 0 La Trinité)\n\n\n\n\n&nbsp\;\n\n\n\n\n\nLa veille\, formation cartograp
 hie-orientation.\n\n\n\n\n\n\nVoir ici\n\n\n\n\n\n\naffiche_printemps_2023
 -2OKTélécharger\n
ATTACH;FMTTYPE=image/jpeg:https://i0.wp.com/belledonne-sport-nature.fr/wp-
 content/uploads/2023/01/mise-en-avant.jpg?fit=788%2C561&ssl=1
CATEGORIES:Rando pédestre
LOCATION:col de Cochette\, col de Cochette\, La Trinité\, Auvergne-Rhône-
 Alpes\, 73110\, Savoie\, France
GEO:45.512507;6.150113
X-APPLE-STRUCTURED-LOCATION;VALUE=URI;X-ADDRESS=col de Cochette\, La Trinit
 é\, Auvergne-Rhône-Alpes\, 73110\, Savoie\, France;X-APPLE-RADIUS=100;X-
 TITLE=col de Cochette:geo:45.512507,6.150113
END:VEVENT
BEGIN:VTIMEZONE
TZID:Europe/Paris
X-LIC-LOCATION:Europe/Paris
BEGIN:DAYLIGHT
DTSTART:20230326T030000
TZOFFSETFROM:+0100
TZOFFSETTO:+0200
TZNAME:CEST
END:DAYLIGHT
END:VTIMEZONE
END:VCALENDAR