BEGIN:VCALENDAR
VERSION:2.0
PRODID:-//wp-events-plugin.com//7.2.3.1//EN
TZID:Europe/Paris
X-WR-TIMEZONE:Europe/Paris
BEGIN:VEVENT
UID:747@belledonne-sport-nature.fr
DTSTART;TZID=Europe/Paris:20260509T090000
DTEND;TZID=Europe/Paris:20260509T163000
DTSTAMP:20260402T144340Z
URL:https://belledonne-sport-nature.fr/events/printemps-de-la-randonnee-fs
 gt-5/
SUMMARY:Printemps de la randonnée FSGT
DESCRIPTION:\nRendez-vous 9 h\, au parking du virage altitude 691 m\, route
  du col du Frène (St. Pierre d'Albigny)\, 3\,5 km avant le col.\n\n\n\n\n
 \n\n\n\n\n\n\n\n\n\n\n\nInscriptions cliquer ici\n\n\n\nLe détail des iti
 néraires - téléchargeables\n\n\n\n\n\n\n\n
ATTACH;FMTTYPE=image/jpeg:https://i0.wp.com/belledonne-sport-nature.fr/wp-
 content/uploads/2026/02/16ePrintempsRand.jpg?fit=972%2C336&ssl=1
CATEGORIES:Rando pédestre
END:VEVENT
BEGIN:VTIMEZONE
TZID:Europe/Paris
X-LIC-LOCATION:Europe/Paris
BEGIN:DAYLIGHT
DTSTART:20260329T030000
TZOFFSETFROM:+0100
TZOFFSETTO:+0200
TZNAME:CEST
END:DAYLIGHT
END:VTIMEZONE
END:VCALENDAR