BEGIN:VCALENDAR
VERSION:2.0
PRODID:-//wp-events-plugin.com//7.2.3.1//EN
TZID:Europe/Paris
X-WR-TIMEZONE:Europe/Paris
BEGIN:VEVENT
UID:748@belledonne-sport-nature.fr
DTSTART;TZID=Europe/Paris:20260627T090000
DTEND;TZID=Europe/Paris:20260627T180000
DTSTAMP:20260306T072623Z
URL:https://belledonne-sport-nature.fr/events/rassemblement-escalade-a-sai
 nt-hugon/
SUMMARY:Rassemblement escalade à Saint Hugon
DESCRIPTION:\n\n\n\n\nPour tous : de débutants à confirmés\, enfants\, j
 eunes\, adultes\n\n\n\nPossibilité d'emprunter : chaussons\, casques\, ha
 rnais\, cordes.\n\n\n\nRendez-vous sur le site à partir de 9 h.\n\n\n\n\n
 \n\n\n\n
ATTACH;FMTTYPE=image/jpeg:https://i0.wp.com/belledonne-sport-nature.fr/wp-
 content/uploads/2026/02/Capture-decran-du-2026-02-27-14-42-34.png?fit=490%
 2C346&ssl=1
CATEGORIES:Escalade
LOCATION:Site d'escalade de Saint-Hugon\, Saint-Hugon\, Arvillard\, 73110\,
  France
GEO:45.41606303684788;6.143745685844351
X-APPLE-STRUCTURED-LOCATION;VALUE=URI;X-ADDRESS=Saint-Hugon\, Arvillard\, 7
 3110\, France;X-APPLE-RADIUS=100;X-TITLE=Site d'escalade de Saint-Hugon:ge
 o:45.41606303684788,6.143745685844351
END:VEVENT
BEGIN:VTIMEZONE
TZID:Europe/Paris
X-LIC-LOCATION:Europe/Paris
BEGIN:DAYLIGHT
DTSTART:20260329T030000
TZOFFSETFROM:+0100
TZOFFSETTO:+0200
TZNAME:CEST
END:DAYLIGHT
END:VTIMEZONE
END:VCALENDAR