BEGIN:VCALENDAR
VERSION:2.0
PRODID:-//wp-events-plugin.com//7.2.3.1//EN
TZID:Europe/Paris
X-WR-TIMEZONE:Europe/Paris
BEGIN:VEVENT
UID:774@belledonne-sport-nature.fr
DTSTART;TZID=Europe/Paris:20260420T180000
DTEND;TZID=Europe/Paris:20260420T190000
DTSTAMP:20260415T102639Z
URL:https://belledonne-sport-nature.fr/events/reunion-de-bureau-10/
SUMMARY:Réunion de bureau
DESCRIPTION:\n&nbsp\;Ordre du jour :\n\n\n\n\nLe point sur les initiatives 
 déjà prévues (voir calendrier)\n\n\n\nLes initiatives à fixer (séjour
  vélo\, balisage\,...)\n\n\n\nLe point sur les adhésions et les finances
 \n\n\n\nPerspectives pour la saison prochaine\n\n\n\nQuestions diverses.\n
 \n
ATTACH;FMTTYPE=image/jpeg:https://i0.wp.com/belledonne-sport-nature.fr/wp-
 content/uploads/2026/04/Capture-decran-du-2026-04-15-10-28-40.png?fit=842%
 2C414&ssl=1
CATEGORIES:Réunion
END:VEVENT
BEGIN:VTIMEZONE
TZID:Europe/Paris
X-LIC-LOCATION:Europe/Paris
BEGIN:DAYLIGHT
DTSTART:20260329T030000
TZOFFSETFROM:+0100
TZOFFSETTO:+0200
TZNAME:CEST
END:DAYLIGHT
END:VTIMEZONE
END:VCALENDAR