BEGIN:VCALENDAR
VERSION:2.0
PRODID:-//wp-events-plugin.com//7.2.3.1//EN
TZID:Europe/Paris
X-WR-TIMEZONE:Europe/Paris
BEGIN:VEVENT
UID:758@belledonne-sport-nature.fr
DTSTART;TZID=Europe/Paris:20270213T000000
DTEND;TZID=Europe/Paris:20270227T000000
DTSTAMP:20260312T164714Z
URL:https://belledonne-sport-nature.fr/events/sejour-ski-de-rando-fevrier-
 2027/
SUMMARY:Séjour ski de rando février 2027
DESCRIPTION:\nAlain a commencé les démarches et a un devis pour "La Riole
 tte" à Villard-Saint-Pancrace près de Briançon. Nous y étions en févr
 ier 2018.C'est un lieu très central qui permet d'accéder aux massifs des
  Ecrins au nord\, des Cerces à l'est\, du Queyras au sud.\n\n\n\n18 couch
 ages\, tarif 2980 €.\n\n\n\nIl nous faut rapidement choisir la semaine :
 \n\n\n\n\ndu samedi 13 au samedi 20 févrierou\n\n\n\ndu samedi 20 au same
 di 27 février\n\n\n\n\nPS : comme il y a des enseignants\, nous choisisso
 ns toujours une période de vacances scolaires.\n\n\n\nAlors\, dès mainte
 nant réponds au questionnaire.\n\n\n\n\n\n\n\n[ninja_form id='44']\n\n\n\
 n\nLes réponses\n\n\n\n[nf-views id="28022"]\n\n\n\n\n\n
ATTACH;FMTTYPE=image/jpeg:https://i0.wp.com/belledonne-sport-nature.fr/wp-
 content/uploads/2026/03/gite-riolette-gd1.jpg?fit=600%2C450&ssl=1
CATEGORIES:Raquette à neige,Ski de rando
END:VEVENT
BEGIN:VTIMEZONE
TZID:Europe/Paris
X-LIC-LOCATION:Europe/Paris
BEGIN:STANDARD
DTSTART:20261025T020000
TZOFFSETFROM:+0200
TZOFFSETTO:+0100
TZNAME:CET
END:STANDARD
END:VTIMEZONE
END:VCALENDAR