BEGIN:VCALENDAR
VERSION:2.0
PRODID:-//wp-events-plugin.com//7.2.3.1//EN
TZID:Europe/Paris
X-WR-TIMEZONE:Europe/Paris
BEGIN:VEVENT
UID:7@belledonne-sport-nature.fr
DTSTART;TZID=Europe/Paris:20180922T100000
DTEND;TZID=Europe/Paris:20180922T173000
DTSTAMP:20180921T094338Z
URL:https://belledonne-sport-nature.fr/events/sport-attitude-fsgt/
SUMMARY:Sport attitude FSGT
DESCRIPTION:\n\n20 activités à découvrir sur place de 10 h à 17h\n\nTir
  à l’arc – Roller – Escalade – Slackline – Châteaux Gonflables
  – Parcours aventure – Hip Hop…\n\nTournois foot à 5 / handball / V
 olley 3x3 / Badminton : Créer votre équipe de 9h00 à 17h00\n\n4 Énorme
 s châteaux gonflables vous attendent pour les enfants… et aussi les adu
 ltes J\n\nAnimations et Repas sur place
CATEGORIES:Réunion
LOCATION:\, \, 
X-APPLE-STRUCTURED-LOCATION;VALUE=URI;X-ADDRESS=\, ;X-APPLE-RADIUS=100;X-TI
 TLE=:geo:0,0
END:VEVENT
BEGIN:VTIMEZONE
TZID:Europe/Paris
X-LIC-LOCATION:Europe/Paris
BEGIN:DAYLIGHT
DTSTART:20180325T030000
TZOFFSETFROM:+0100
TZOFFSETTO:+0200
TZNAME:CEST
END:DAYLIGHT
END:VTIMEZONE
END:VCALENDAR