BEGIN:VCALENDAR
VERSION:2.0
PRODID:-//wp-events-plugin.com//7.2.3.1//EN
TZID:Europe/Paris
X-WR-TIMEZONE:Europe/Paris
BEGIN:VEVENT
UID:391@belledonne-sport-nature.fr
DTSTART;TZID=Europe/Paris;VALUE=DATE:20221029
DTEND;TZID=Europe/Paris;VALUE=DATE:20221102
DTSTAMP:20220921T060639Z
URL:https://belledonne-sport-nature.fr/events/stage-equipeur-de-site-desca
 lade-2/
SUMMARY:Stage équipeur de site d'escalade
DESCRIPTION:Du 29 octobre au 1er novembre\n\nStage équipeur de site d'esca
 lade à Saint Hugon.\nDeux formules :\nAvec hébergement notamment pour le
 s Parisiens\nParticipation : 95 € comprenant l'hébergement (2 lits doub
 les + dortoir\, éventuellement camping) en 1/2 pension à la maison d'Eul
 alie.\nLe pique-nique à midi.\nSans hébergement pour les locaux.\nGratui
 t.\n\n\n\nPré-requis :\n\n 	expérience de grimpe en falaise\,\n 	maîtri
 se des techniques de rappel et de manipulation de cordes.\n\nMatériel per
 sonnel :\ncasque\, harnais (le plus confortable possible)\, auto-bloquant 
 ou Shunt\, sangles\, lunettes de protection\, gants\, vieux vêtements\, c
 haussons d'escalade\, chaussures de marche ou de montagne\, …\n\n\n\n[ni
 nja_form id='9']\n\n[maxbutton id="37" ]
ATTACH;FMTTYPE=image/jpeg:https://i0.wp.com/belledonne-sport-nature.fr/wp-
 content/uploads/2022/04/stage-equipeur_36-scaled.jpg?fit=1920%2C1286&ssl=1
CATEGORIES:Travaux site d'escalade
LOCATION:Site d'escalade de Saint-Hugon\, Saint-Hugon\, Arvillard\, 73110\,
  France
GEO:45.41606303684788;6.143745685844351
X-APPLE-STRUCTURED-LOCATION;VALUE=URI;X-ADDRESS=Saint-Hugon\, Arvillard\, 7
 3110\, France;X-APPLE-RADIUS=100;X-TITLE=Site d'escalade de Saint-Hugon:ge
 o:45.41606303684788,6.143745685844351
END:VEVENT
BEGIN:VTIMEZONE
TZID:Europe/Paris
X-LIC-LOCATION:Europe/Paris
BEGIN:DAYLIGHT
DTSTART:20220327T030000
TZOFFSETFROM:+0100
TZOFFSETTO:+0200
TZNAME:CEST
END:DAYLIGHT
BEGIN:STANDARD
DTSTART:20221030T020000
TZOFFSETFROM:+0200
TZOFFSETTO:+0100
TZNAME:CET
END:STANDARD
END:VTIMEZONE
END:VCALENDAR