BEGIN:VCALENDAR
VERSION:2.0
PRODID:-//wp-events-plugin.com//7.2.3.1//EN
TZID:Europe/Paris
X-WR-TIMEZONE:Europe/Paris
BEGIN:VEVENT
UID:28@belledonne-sport-nature.fr
DTSTART;TZID=Europe/Paris;VALUE=DATE:20190608
DTEND;TZID=Europe/Paris;VALUE=DATE:20190611
DTSTAMP:20190424T160409Z
URL:https://belledonne-sport-nature.fr/events/stage-equipeur-de-site-natur
 el-descalade/
SUMMARY:Stage équipeur de site naturel d'escalade
DESCRIPTION:Pour apprendre à équiper en site naturel d'escalade : choix d
 es points d'assurage\, scellements\, chimiques\, scellements secs....\n\nC
 e sera l'occasion également de poursuive l'équipement du site d'escalade
  de Saint Hugon.\n\nPlus de renseignements ci-dessous\n&nbsp\;Le tarif de 
 80 € comprend l'hébergement en pension complète et concerne uniquement
  ceux ou celles qui viennent de loin. Inscription auprès de Thomas Chappu
 is\n\n\nDes "non grimpeurs" seront aussi les bienvenus\; il y a du travail
  au pied des voies\, sur les sentiers...\n\n[pdf-embedder url="https://bel
 ledonne-sport-nature.fr/wp-content/uploads/2018/10/compressed-Affiche-Ouve
 rture-3.pdf" title="compressed-Affiche Ouverture 3"]
ATTACH;FMTTYPE=image/jpeg:https://i0.wp.com/belledonne-sport-nature.fr/wp-
 content/uploads/2018/10/DSCF0825-e1540534190868.jpg?fit=800%2C600&ssl=1
CATEGORIES:Escalade
LOCATION:Site d'escalade de Saint-Hugon\, Saint-Hugon\, Arvillard\, 73110\,
  France
GEO:45.41606303684788;6.143745685844351
X-APPLE-STRUCTURED-LOCATION;VALUE=URI;X-ADDRESS=Saint-Hugon\, Arvillard\, 7
 3110\, France;X-APPLE-RADIUS=100;X-TITLE=Site d'escalade de Saint-Hugon:ge
 o:45.41606303684788,6.143745685844351
END:VEVENT
BEGIN:VTIMEZONE
TZID:Europe/Paris
X-LIC-LOCATION:Europe/Paris
BEGIN:DAYLIGHT
DTSTART:20190331T030000
TZOFFSETFROM:+0100
TZOFFSETTO:+0200
TZNAME:CEST
END:DAYLIGHT
END:VTIMEZONE
END:VCALENDAR