BEGIN:VCALENDAR
VERSION:2.0
PRODID:-//wp-events-plugin.com//7.2.3.1//EN
TZID:Europe/Paris
X-WR-TIMEZONE:Europe/Paris
BEGIN:VEVENT
UID:454@belledonne-sport-nature.fr
DTSTART;TZID=Europe/Paris;VALUE=DATE:20230617
DTEND;TZID=Europe/Paris;VALUE=DATE:20230626
DTSTAMP:20230613T062912Z
URL:https://belledonne-sport-nature.fr/events/tournee-des-cabanes-de-belle
 donne-2/
SUMMARY:Tournée des cabanes de Belledonne
DESCRIPTION:\nAvec Tous à Poêle\n\n\n\nAprès un hiver où elles ont ét
 é bien malmenées\, tour dans les cabanes de Belledonne pour les rendre p
 impantes avant l'été et faire les petits travaux nécessaires.\n\n\n\n[s
 u_spoiler title="Informations complémentaires" open="no" style="fancy"] P
 our ceux qui sont annoncés le samedi 17\, rendez-vous au chalet Du Bout (
 départ de Pinsot/ hameau du Gleyzin\, plus de détails ici : https://www.
 refuges.info/point/183/cabane-non-gardee/Belledonne/Le-Chalet-du-Bout/). V
 ous pouvez bien sûr arriver plus tôt mais nous arriverons avec Oscar en 
 fin d'après-midi.\n\nEnsuite\, il est prévu le déroulé suivant (qui po
 urra éventuellement bouger en fonction de la météo) :\n- dimanche 18 au
  jeudi 22 : camp de base au chalet Du Bout pour ensuite aller rendre visit
 e au Léat\, à l'Aup Bernard et à la Fouetterie\, à Combe Madame\n- ven
 dredi 23 et samedi 24 : refuge de La Perrière et visite des Plattières e
 t de Claran\n- dimanche 25 : Retour\n\nL'objectif est de rendre ces cabane
 s à nouveau accueillantes et prendre des dispositions avec la commune pou
 r que les dégradations et vols de tuyaux de l'hiver passé ne se reprodui
 sent plus.\n\nNous prévoyons les premiers repas (plat + pain\, vin\, peti
 t-déjeuner) et ferons des courses ensuite pour nous ravitailler (particip
 ation de 5€ par jour et par personne). Mais vous pouvez aussi agrémente
 r les repas (apéros\, desserts...). La préparation des repas s'organiser
 a entre nous.\n\nSinon en plus de vos affaires personnelles\, prenez dans 
 votre sac à dos :\n- couverts et ustensiles de randonnée\n- duvet/ matel
 as/ tente (certaines cabanes sont petites et peuvent être occupées par d
 'autres randonneurs)\n- gants/ habits de travail\n\nSi vous avez des quest
 ions d'ici là\, vous pouvez nous joindre sur le fixe (04 92 21 90 45).\nA
  bientôt\, [/su_spoiler]\n\n\n\nContacter Tous à Poêle\n
ATTACH;FMTTYPE=image/jpeg:https://i0.wp.com/belledonne-sport-nature.fr/wp-
 content/uploads/2023/04/5fa7064d5c8d8ba433c9e7737216854f0a7623a374f7b32dc3
 591bf549d24a49-1.jpg?fit=1500%2C1125&ssl=1
CATEGORIES:Travaux refuges
END:VEVENT
BEGIN:VTIMEZONE
TZID:Europe/Paris
X-LIC-LOCATION:Europe/Paris
BEGIN:DAYLIGHT
DTSTART:20230326T030000
TZOFFSETFROM:+0100
TZOFFSETTO:+0200
TZNAME:CEST
END:DAYLIGHT
END:VTIMEZONE
END:VCALENDAR