BEGIN:VCALENDAR
VERSION:2.0
PRODID:-//wp-events-plugin.com//7.2.3.1//EN
TZID:Europe/Paris
X-WR-TIMEZONE:Europe/Paris
BEGIN:VEVENT
UID:290@belledonne-sport-nature.fr
DTSTART;TZID=Europe/Paris:20210930T083000
DTEND;TZID=Europe/Paris:20210930T170000
DTSTAMP:20210925T063812Z
URL:https://belledonne-sport-nature.fr/events/travaux-au-refuge-de-la-perr
 iere-3/
SUMMARY:Travaux au refuge de la Perrière
DESCRIPTION:Les travaux à faire :\n\n 	Améliorer (encore) le captage\n 	R
 éparer la clôture\n 	Monter de sciure\n 	Faire du bois\n\nAvec Tous à P
 oêle
ATTACH;FMTTYPE=image/jpeg:https://i0.wp.com/belledonne-sport-nature.fr/wp-
 content/uploads/2021/02/Renovation-La-Perriere_43-scaled.jpg?fit=1920%2C14
 40&ssl=1
CATEGORIES:Travaux refuges
LOCATION:Place Saint Roch\, Place saint Roch\, Arvillard\, 73110\, France
GEO:45.442308;6.12123
X-APPLE-STRUCTURED-LOCATION;VALUE=URI;X-ADDRESS=Place saint Roch\, Arvillar
 d\, 73110\, France;X-APPLE-RADIUS=100;X-TITLE=Place Saint Roch:geo:45.4423
 08,6.12123
END:VEVENT
BEGIN:VTIMEZONE
TZID:Europe/Paris
X-LIC-LOCATION:Europe/Paris
BEGIN:DAYLIGHT
DTSTART:20210328T030000
TZOFFSETFROM:+0100
TZOFFSETTO:+0200
TZNAME:CEST
END:DAYLIGHT
END:VTIMEZONE
END:VCALENDAR