BEGIN:VCALENDAR
VERSION:2.0
PRODID:-//wp-events-plugin.com//7.2.3.1//EN
TZID:Europe/Paris
X-WR-TIMEZONE:Europe/Paris
BEGIN:VEVENT
UID:244@belledonne-sport-nature.fr
DTSTART;TZID=Europe/Paris:20210430T093000
DTEND;TZID=Europe/Paris:20210430T160000
DTSTAMP:20210427T052640Z
URL:https://belledonne-sport-nature.fr/events/travaux-au-site-descalade/
SUMMARY:Travaux au site d'escalade
DESCRIPTION:Changement de date. La sortie a été repoussée d'une journée
 .\n\nDeux types de travaux :\n\n 	Poursuite du nettoyage\, brossage\, souf
 flage dans les voies (en rappel).\nIl faut qu'il fasse beau et sec.\n 	Ré
 novation des l'emmarchement sur le sentier.\nPeut se faire même s'il ne f
 ait pas très beau.\n\nRendez vous:\n\n 	9 h 15 place Saint Roch Arvillard
 \n 	9 h 30 au site d'escalade\n
ATTACH;FMTTYPE=image/jpeg:https://i0.wp.com/belledonne-sport-nature.fr/wp-
 content/uploads/2021/04/DSCF5229_v1.jpg?fit=800%2C450&ssl=1
CATEGORIES:Travaux site d'escalade
LOCATION:Site d'escalade de Saint-Hugon\, Saint-Hugon\, Arvillard\, 73110\,
  France
GEO:45.41606303684788;6.143745685844351
X-APPLE-STRUCTURED-LOCATION;VALUE=URI;X-ADDRESS=Saint-Hugon\, Arvillard\, 7
 3110\, France;X-APPLE-RADIUS=100;X-TITLE=Site d'escalade de Saint-Hugon:ge
 o:45.41606303684788,6.143745685844351
END:VEVENT
BEGIN:VTIMEZONE
TZID:Europe/Paris
X-LIC-LOCATION:Europe/Paris
BEGIN:DAYLIGHT
DTSTART:20210328T030000
TZOFFSETFROM:+0100
TZOFFSETTO:+0200
TZNAME:CEST
END:DAYLIGHT
END:VTIMEZONE
END:VCALENDAR