BEGIN:VCALENDAR
VERSION:2.0
PRODID:-//wp-events-plugin.com//7.2.3.1//EN
TZID:Europe/Paris
X-WR-TIMEZONE:Europe/Paris
BEGIN:VEVENT
UID:694@belledonne-sport-nature.fr
DTSTART;TZID=Europe/Paris:20250928T083000
DTEND;TZID=Europe/Paris:20250928T160000
DTSTAMP:20250925T144713Z
URL:https://belledonne-sport-nature.fr/events/traversee-du-grand-rocher-19
 26-m/
SUMMARY:Traversée du Grand Rocher (1926 m)
DESCRIPTION:\nReporté à dimanche 28\, temps plus ensoleillé.\n\n\n\nClas
 sique randonnée facile à partir du foyer de ski de fond du Barioz (1475 
 m).\n\n\n\nPassage par le chalet Pierre Roubet\, et le lac de Séchident \
 ; retour en traversée jusqu'au refuge du Crêt du Poulet. Si le temps est
  dégagé\, on profite du panorama sur les montagnes de Belledonne et sur 
 la Chartreuse et les Bauges. Distance environ 6 km.\n
ATTACH;FMTTYPE=image/jpeg:https://i0.wp.com/belledonne-sport-nature.fr/wp-
 content/uploads/2025/09/Gr-Rocher-en-traversee_31.jpg?fit=1920%2C1443&ssl=
 1
CATEGORIES:Rando pédestre
LOCATION:Place Saint Roch\, Place saint Roch\, Arvillard\, 73110\, France
GEO:45.442308;6.12123
X-APPLE-STRUCTURED-LOCATION;VALUE=URI;X-ADDRESS=Place saint Roch\, Arvillar
 d\, 73110\, France;X-APPLE-RADIUS=100;X-TITLE=Place Saint Roch:geo:45.4423
 08,6.12123
END:VEVENT
BEGIN:VTIMEZONE
TZID:Europe/Paris
X-LIC-LOCATION:Europe/Paris
BEGIN:DAYLIGHT
DTSTART:20250330T030000
TZOFFSETFROM:+0100
TZOFFSETTO:+0200
TZNAME:CEST
END:DAYLIGHT
END:VTIMEZONE
END:VCALENDAR