BEGIN:VCALENDAR
VERSION:2.0
PRODID:-//wp-events-plugin.com//7.2.3.1//EN
TZID:Europe/Paris
X-WR-TIMEZONE:Europe/Paris
BEGIN:VEVENT
UID:752@belledonne-sport-nature.fr
DTSTART;TZID=Europe/Paris:20260430T083000
DTEND;TZID=Europe/Paris:20260430T160000
DTSTAMP:20260414T080434Z
URL:https://belledonne-sport-nature.fr/events/traversee-du-grand-rocher-2/
SUMMARY:Traversée du Grand Rocher
DESCRIPTION:\nDépart du foyer de ski de fond du Barioz (1475 m) au-dessus 
 du col du Barioz.\n\n\n\nMontée par le chalet Pierre Roubet\, le lac de S
 échident\, puis la crête terminale en direction du sud\, par laquelle on
  rejoint la croix au sommet (1926 m).\n\n\n\nRetour par la crête directio
 n nord\, le Crêt Luisard\, le lac de Belle-Aiguette et le refuge du Crêt
  du Poulet.\n\n\n\nAprès avoir découvert les 2 versants du Crêt du Poul
 et\, on descend au point de départ par la piste noire de ski alpin (en ga
 zon ?).\n\n\n\nSi le temps est dégagé\, on admire la chaîne de Belledon
 ne dans toute sa splendeur et la Chartreuse et les Bauges\, côté ouest. 
 Peut-être les premières gentianes acaules au bleu soutenu ?\n\n\n\nDista
 nce 9 km \; dénivelée 550 m. Carte IGN TOP 25 numéro 3433 OT.\n\n\n\nRD
 V 8 heures 30 \; retour 16 heures.\n
ATTACH;FMTTYPE=image/jpeg:https://i0.wp.com/belledonne-sport-nature.fr/wp-
 content/uploads/2026/03/Grand-Rocher_05-scaled.jpg?fit=2560%2C1438&ssl=1
CATEGORIES:Rando pédestre
LOCATION:Place Saint Roch\, Place saint Roch\, Arvillard\, 73110\, France
GEO:45.442308;6.12123
X-APPLE-STRUCTURED-LOCATION;VALUE=URI;X-ADDRESS=Place saint Roch\, Arvillar
 d\, 73110\, France;X-APPLE-RADIUS=100;X-TITLE=Place Saint Roch:geo:45.4423
 08,6.12123
END:VEVENT
BEGIN:VTIMEZONE
TZID:Europe/Paris
X-LIC-LOCATION:Europe/Paris
BEGIN:DAYLIGHT
DTSTART:20260329T030000
TZOFFSETFROM:+0100
TZOFFSETTO:+0200
TZNAME:CEST
END:DAYLIGHT
END:VTIMEZONE
END:VCALENDAR