BEGIN:VCALENDAR
VERSION:2.0
PRODID:-//wp-events-plugin.com//7.2.3.1//EN
TZID:Europe/Paris
X-WR-TIMEZONE:Europe/Paris
BEGIN:VEVENT
UID:755@belledonne-sport-nature.fr
DTSTART;TZID=Europe/Paris:20260407T000000
DTEND;TZID=Europe/Paris:20260409T000000
DTSTAMP:20260321T120921Z
URL:https://belledonne-sport-nature.fr/events/trois-jours-au-refuge-davero
 le/
SUMMARY:Trois jours au refuge d'Avérole
DESCRIPTION:\n Deux nuits en demi-pension (7 et 8 avril) au refuge d'Avéro
 le en Haute Maurienne (Bessans).\n\n\n\nDeux courses les 8 et 9 avril. Nom
 breuses possibilités.\n\n\n\n\n\n\n\n\n\nVoir sur skitour.fr\n\n\n\n\n\nT
 oponeige VanoiseJe l'apporte\n\n\n\n\n\nCarte IGN 3633ET et 3634OT\n\n\n\n
 \n\nInscriptions avant le 27 mars\n\n\n\n[ninja_form id=43]\n\n\n\n\nLes i
 nscrits\n\n\n\n[nf-views id="27969"]\n\n
ATTACH;FMTTYPE=image/jpeg:https://i0.wp.com/belledonne-sport-nature.fr/wp-
 content/uploads/2026/03/averole-02.jpg?fit=600%2C450&ssl=1
CATEGORIES:Ski de rando
END:VEVENT
BEGIN:VTIMEZONE
TZID:Europe/Paris
X-LIC-LOCATION:Europe/Paris
BEGIN:DAYLIGHT
DTSTART:20260329T030000
TZOFFSETFROM:+0100
TZOFFSETTO:+0200
TZNAME:CEST
END:DAYLIGHT
END:VTIMEZONE
END:VCALENDAR