BEGIN:VCALENDAR
VERSION:2.0
PRODID:-//wp-events-plugin.com//7.2.3.1//EN
TZID:Europe/Paris
X-WR-TIMEZONE:Europe/Paris
BEGIN:VEVENT
UID:56@belledonne-sport-nature.fr
DTSTART;TZID=Europe/Paris:20190519T090000
DTEND;TZID=Europe/Paris:20190519T180000
DTSTAMP:20190517T150428Z
URL:https://belledonne-sport-nature.fr/events/week-end-equipement/
SUMMARY:Équipement site de Saint Hugon [Reporté]
DESCRIPTION:En raison du mauvais temps annoncé\,la sortie est annulé et r
 eportée (pour ceux qui sont disponibles) au vendredi 7 juin.\n\nÉquipeme
 nt au site naturel d'escalade de Saint Hugon : repérage et nettoyage des 
 voies à ouvrir.\n\nDans le cadre d'un stage FSGT "Equipeur de site nature
 l d'escalade"&nbsp\;\nqui se poursuivra les 8\,9 et 10 juin 2019.\nDes “
 non grimpeurs” seront aussi les bienvenus\; il y a du travail au pied de
 s voies\, sur les sentiers…
ATTACH;FMTTYPE=image/jpeg:https://i0.wp.com/belledonne-sport-nature.fr/wp-
 content/uploads/2019/02/equipement-site.jpg?fit=631%2C800&ssl=1
CATEGORIES:Escalade
LOCATION:Saint-Hugon\, Saint-Hugon\, Arvillard\, 73110\, France
GEO:45.419403;6.14402999999993
X-APPLE-STRUCTURED-LOCATION;VALUE=URI;X-ADDRESS=Saint-Hugon\, Arvillard\, 7
 3110\, France;X-APPLE-RADIUS=100;X-TITLE=Saint-Hugon:geo:45.419403,6.14402
 999999993
END:VEVENT
BEGIN:VTIMEZONE
TZID:Europe/Paris
X-LIC-LOCATION:Europe/Paris
BEGIN:DAYLIGHT
DTSTART:20190331T030000
TZOFFSETFROM:+0100
TZOFFSETTO:+0200
TZNAME:CEST
END:DAYLIGHT
END:VTIMEZONE
END:VCALENDAR